BEGIN:VCALENDAR
VERSION:2.0
PRODID:-//92.5 the River - ECPv5.16.3.1//NONSGML v1.0//EN
CALSCALE:GREGORIAN
METHOD:PUBLISH
X-WR-CALNAME:92.5 the River
X-ORIGINAL-URL:https://theriverboston.com
X-WR-CALDESC:Events for 92.5 the River
BEGIN:VTIMEZONE
TZID:America/New_York
BEGIN:DAYLIGHT
TZOFFSETFROM:-0500
TZOFFSETTO:-0400
TZNAME:EDT
DTSTART:20160313T070000
END:DAYLIGHT
BEGIN:STANDARD
TZOFFSETFROM:-0400
TZOFFSETTO:-0500
TZNAME:EST
DTSTART:20161106T060000
END:STANDARD
END:VTIMEZONE
BEGIN:VEVENT
DTSTART;TZID=America/New_York:20160415T200000
DTEND;TZID=America/New_York:20160415T230000
DTSTAMP:20260419T113252
CREATED:20160404T163116Z
LAST-MODIFIED:20160404T163116Z
UID:10460-1460750400-1460761200@theriverboston.com
SUMMARY:David Grisman Sextet\, and guest Cold Chocolate at the Chevalier Theatre!
DESCRIPTION:See the David Grisman Sextet at the Chevalier Theatre on April 15th! See this great pioneer of jamgrass with his hard-hitting sextet for an incredible live experience.
URL:https://theriverboston.com/events/david-grisman-sextet-guest-cold-chocolate-chevalier-theatre/
LOCATION:Chevalier Theatre\, 30 Forest St.\, Medford\, MA\, 02155\, United States
END:VEVENT
END:VCALENDAR