BEGIN:VCALENDAR
VERSION:2.0
PRODID:-//92.5 the River - ECPv5.16.3.1//NONSGML v1.0//EN
CALSCALE:GREGORIAN
METHOD:PUBLISH
X-WR-CALNAME:92.5 the River
X-ORIGINAL-URL:https://theriverboston.com
X-WR-CALDESC:Events for 92.5 the River
BEGIN:VTIMEZONE
TZID:America/New_York
BEGIN:DAYLIGHT
TZOFFSETFROM:-0500
TZOFFSETTO:-0400
TZNAME:EDT
DTSTART:20170312T070000
END:DAYLIGHT
BEGIN:STANDARD
TZOFFSETFROM:-0400
TZOFFSETTO:-0500
TZNAME:EST
DTSTART:20171105T060000
END:STANDARD
END:VTIMEZONE
BEGIN:VEVENT
DTSTART;VALUE=DATE:20170204
DTEND;VALUE=DATE:20170205
DTSTAMP:20260425T215540
CREATED:20170116T161622Z
LAST-MODIFIED:20170125T220700Z
UID:32679-1486166400-1486252799@theriverboston.com
SUMMARY:A day on the slopes at Wachusett with Air Traffic Controller!
DESCRIPTION:Clif Bar is sponsoring a once in a lifetime experience at Wachusett Mountain with Boston-based band Air Traffic Controller! \nOn Saturday\, February 4th\, Clif Bar will send 5 lucky winners and their friends to Wachusett Mountain\, where they will receive lift passes for the day\, lunch in a private suite with Air Traffic Controller\, a backstage meet and greet with the band\, and passes to their private Apres Ski performance! \nEnter to win on our Tickets and Exclusive Offers Page! \n \nAir Traffic Controller has won numerous awards locally and nationally\, and continues to receive accolades in the press for their music. They have also opened up the River’s Newburyport Riverfront Music Festival. Check out their single “On the Wire” we’ve been spinning on the River!
URL:https://theriverboston.com/events/day-slopes-wachusett-air-traffic-controller/
LOCATION:Wachusett Mountain\, 499 Mountain Road\, Princeton\, MA\, 01541\, United States
END:VEVENT
END:VCALENDAR