BEGIN:VCALENDAR
VERSION:2.0
PRODID:-//92.5 the River - ECPv5.16.3.1//NONSGML v1.0//EN
CALSCALE:GREGORIAN
METHOD:PUBLISH
X-WR-CALNAME:92.5 the River
X-ORIGINAL-URL:https://theriverboston.com
X-WR-CALDESC:Events for 92.5 the River
BEGIN:VTIMEZONE
TZID:America/New_York
BEGIN:DAYLIGHT
TZOFFSETFROM:-0500
TZOFFSETTO:-0400
TZNAME:EDT
DTSTART:20180311T070000
END:DAYLIGHT
BEGIN:STANDARD
TZOFFSETFROM:-0400
TZOFFSETTO:-0500
TZNAME:EST
DTSTART:20181104T060000
END:STANDARD
END:VTIMEZONE
BEGIN:VEVENT
DTSTART;TZID=America/New_York:20181024T183000
DTEND;TZID=America/New_York:20181024T213000
DTSTAMP:20260421T041936
CREATED:20181001T160051Z
LAST-MODIFIED:20181001T160051Z
UID:201627-1540405800-1540416600@theriverboston.com
SUMMARY:Delta Mae at North Church of Portsmouth's Soul Cafe
DESCRIPTION:Delta Mae at North Church Soul Cafe on Wed\, October 24th!\nGet your tickets now to see Delta Mae at North Church’s Soul Cafe in Portsmouth\, NH! Tickets are $20 in advance and $25 day-of show. Doors are at 6:30PM and show starts at 7:00PM.
URL:https://theriverboston.com/events/delta-mae-at-north-church-of-portsmouths-soul-cafe/
LOCATION:Soul Cafe\, Market Square\, 2 Congress Street\, Portsmouth\, NH\, 03801\, United States
END:VEVENT
END:VCALENDAR