BEGIN:VCALENDAR
VERSION:2.0
PRODID:-//92.5 the River - ECPv5.16.3.1//NONSGML v1.0//EN
CALSCALE:GREGORIAN
METHOD:PUBLISH
X-WR-CALNAME:92.5 the River
X-ORIGINAL-URL:https://theriverboston.com
X-WR-CALDESC:Events for 92.5 the River
BEGIN:VTIMEZONE
TZID:America/New_York
BEGIN:DAYLIGHT
TZOFFSETFROM:-0500
TZOFFSETTO:-0400
TZNAME:EDT
DTSTART:20170312T070000
END:DAYLIGHT
BEGIN:STANDARD
TZOFFSETFROM:-0400
TZOFFSETTO:-0500
TZNAME:EST
DTSTART:20171105T060000
END:STANDARD
END:VTIMEZONE
BEGIN:VEVENT
DTSTART;TZID=America/New_York:20170617T200000
DTEND;TZID=America/New_York:20170617T230000
DTSTAMP:20260425T102342
CREATED:20170210T185710Z
LAST-MODIFIED:20170210T185847Z
UID:35590-1497729600-1497740400@theriverboston.com
SUMMARY:Diana Krall at the Shubert Theatre
DESCRIPTION:Grammy® Award-winning jazz pianist and world-renowned singer Diana Krall will play the Boch Center Shubert Theatre  in support of her highly anticipated new album “Turn Up The Quiet.” \nTickets are on sale now (click to view) \n \nDiana Krall’s new album celebrates a return to jazz and the Great American Songbook and reunites Diana with Grammy® Award-winning producer Tommy LiPuma. She is the only jazz singer to have eight albums debut at the top of the Billboard Jazz Albums chart. To date\, her albums have garnered five Grammy® Awards\, eight Juno® Awards and have also earned nine gold\, three platinum and seven multi-platinum albums. Krall’s unique artistry transcends any single musical style and has made her one of the most recognizable artists of our time.
URL:https://theriverboston.com/events/diana-krall-shubert-theatre/
LOCATION:Shubert Theatre\, 265 Tremont Street\, Boston\, MA\, 02116\, United States
END:VEVENT
END:VCALENDAR