BEGIN:VCALENDAR
VERSION:2.0
PRODID:-//92.5 the River - ECPv5.16.3.1//NONSGML v1.0//EN
CALSCALE:GREGORIAN
METHOD:PUBLISH
X-WR-CALNAME:92.5 the River
X-ORIGINAL-URL:https://theriverboston.com
X-WR-CALDESC:Events for 92.5 the River
BEGIN:VTIMEZONE
TZID:America/New_York
BEGIN:DAYLIGHT
TZOFFSETFROM:-0500
TZOFFSETTO:-0400
TZNAME:EDT
DTSTART:20240310T070000
END:DAYLIGHT
BEGIN:STANDARD
TZOFFSETFROM:-0400
TZOFFSETTO:-0500
TZNAME:EST
DTSTART:20241103T060000
END:STANDARD
END:VTIMEZONE
BEGIN:VEVENT
DTSTART;TZID=America/New_York:20241107T180000
DTEND;TZID=America/New_York:20241107T203000
DTSTAMP:20260419T200217
CREATED:20240918T204602Z
LAST-MODIFIED:20240918T204602Z
UID:225165-1731002400-1731011400@theriverboston.com
SUMMARY:Eleventh Annual Distiller's Showcase @ DoubleTree by Hilton Manchester Downtown
DESCRIPTION:Featuring more than 600 premium and ultra-premium spirits for sampling\, the Distiller’s Showcase will take place on Thursday\, November 7th\, from 6:00 to 8:30 PM\, at the DoubleTree by Hilton Manchester Downtown. The event provides the opportunity for guests to meet distillers from around the world while sampling food from New Hampshire’s top restaurants. Tickets are on sale now! \nThis event is for adults 21 years of age or older. No one under 21 years of age will be admitted. \nBUY TICKETS
URL:https://theriverboston.com/events/distillers-showcase-2024/
LOCATION:DoubleTree by Hilton Manchester Downtown\, 700 Elm Street\, Manchester\, NH\, 03101\, United States
END:VEVENT
END:VCALENDAR