BEGIN:VCALENDAR
VERSION:2.0
PRODID:-//92.5 the River - ECPv5.16.3.1//NONSGML v1.0//EN
CALSCALE:GREGORIAN
METHOD:PUBLISH
X-WR-CALNAME:92.5 the River
X-ORIGINAL-URL:https://theriverboston.com
X-WR-CALDESC:Events for 92.5 the River
BEGIN:VTIMEZONE
TZID:America/New_York
BEGIN:DAYLIGHT
TZOFFSETFROM:-0500
TZOFFSETTO:-0400
TZNAME:EDT
DTSTART:20170312T070000
END:DAYLIGHT
BEGIN:STANDARD
TZOFFSETFROM:-0400
TZOFFSETTO:-0500
TZNAME:EST
DTSTART:20171105T060000
END:STANDARD
END:VTIMEZONE
BEGIN:VEVENT
DTSTART;TZID=America/New_York:20170714T193000
DTEND;TZID=America/New_York:20170714T213000
DTSTAMP:20260424T005351
CREATED:20170309T215328Z
LAST-MODIFIED:20170309T215328Z
UID:37468-1500060600-1500067800@theriverboston.com
SUMMARY:The Doo Wop Project
DESCRIPTION:  \nThe Doo Wop Project begins at the beginning\, tracing the evolution of Doo Wop from the classic sound of five guys singing tight harmonies on a street corner to the biggest hits on the radio today. Throughout the show DWP takes audiences on a journey from foundational tunes of groups like the Crests\, Belmonts and Flamingos through their influences on the sounds of Smokey Robinson\, the Temptations\, and the Four Seasons all the way to Michael Jackson\, Jason Mraz and Amy Winehouse. Tickets on sale at https://greatwaters.ticketleap.com/the-doo-wop-project/ \n 
URL:https://theriverboston.com/events/doo-wop-project/
LOCATION:Kingswood Arts Center\, 21 McManus Road\, Wolfeboro\, NH\, 03894\, United States
END:VEVENT
END:VCALENDAR