BEGIN:VCALENDAR
VERSION:2.0
PRODID:-//92.5 the River - ECPv5.16.3.1//NONSGML v1.0//EN
CALSCALE:GREGORIAN
METHOD:PUBLISH
X-WR-CALNAME:92.5 the River
X-ORIGINAL-URL:https://theriverboston.com
X-WR-CALDESC:Events for 92.5 the River
BEGIN:VTIMEZONE
TZID:America/New_York
BEGIN:DAYLIGHT
TZOFFSETFROM:-0500
TZOFFSETTO:-0400
TZNAME:EDT
DTSTART:20210314T070000
END:DAYLIGHT
BEGIN:STANDARD
TZOFFSETFROM:-0400
TZOFFSETTO:-0500
TZNAME:EST
DTSTART:20211107T060000
END:STANDARD
END:VTIMEZONE
BEGIN:VEVENT
DTSTART;TZID=America/New_York:20211026T193000
DTEND;TZID=America/New_York:20211026T193000
DTSTAMP:20260421T195024
CREATED:20210722T153544Z
LAST-MODIFIED:20210722T153544Z
UID:214193-1635276600-1635276600@theriverboston.com
SUMMARY:DRAFT The Mavericks at The Music Hall
DESCRIPTION:Don’t miss The Mavericks at The Music Hall!\nConcert starts at 7:30 PM. \nDon’t miss night two of The Mavericks En Espanol World Tour! Born in the rich cultural mix of Miami then tempered in Nashville’s country hothouse–The Mavericks—rode high in the country and rock charts of the 1990s with culture-crossing hits like “What A Crying Shame” and “All You Ever Do Is Bring Me Down.” Then they conquered Europe with the titanic feel-good party classic “Dance The Night Away\,” a 400\,000-seller in the UK.  READ MORE. \nPURCHASE TICKETS HERE! \nStay up to date with The Mavericks\nFacebook | Instagram | Twitter
URL:https://theriverboston.com/events/draft-the-mavericks-at-the-music-hall/
LOCATION:The Music Hall\, 28 Chestnut Street\, Portsmouth\, NH\, 03801\, United States
END:VEVENT
END:VCALENDAR