BEGIN:VCALENDAR
VERSION:2.0
PRODID:-//92.5 the River - ECPv5.16.3.1//NONSGML v1.0//EN
CALSCALE:GREGORIAN
METHOD:PUBLISH
X-WR-CALNAME:92.5 the River
X-ORIGINAL-URL:https://theriverboston.com
X-WR-CALDESC:Events for 92.5 the River
BEGIN:VTIMEZONE
TZID:America/New_York
BEGIN:DAYLIGHT
TZOFFSETFROM:-0500
TZOFFSETTO:-0400
TZNAME:EDT
DTSTART:20240310T070000
END:DAYLIGHT
BEGIN:STANDARD
TZOFFSETFROM:-0400
TZOFFSETTO:-0500
TZNAME:EST
DTSTART:20241103T060000
END:STANDARD
END:VTIMEZONE
BEGIN:VEVENT
DTSTART;TZID=America/New_York:20240315T190000
DTEND;TZID=America/New_York:20240315T190000
DTSTAMP:20260424T181443
CREATED:20240221T180508Z
LAST-MODIFIED:20240221T180508Z
UID:222848-1710529200-1710529200@theriverboston.com
SUMMARY:Dropkick Murphys at MGM Music Hall - Night 1
DESCRIPTION:Dropkick Murphys  proudly  remain  Boston’s  rock  ‘n’  roll  underdogs  turned  champions.  Since  1996\,  the  boys  have created the kind of music that’s meant to be chanted at last call\, in packed arenas\, and during the fourth quarter\, third period\,  or  ninth  inning  of a comeback rally. Join the party this St. Patrick’s Day\, get your tickets today.
URL:https://theriverboston.com/events/dropkick-murphys-mgm-night-1/
LOCATION:MGM Music Hall at Fenway\, 2 Lansdowne Street\, Boston\, MA\, 02215\, United States
END:VEVENT
END:VCALENDAR