BEGIN:VCALENDAR
VERSION:2.0
PRODID:-//92.5 the River - ECPv5.16.3.1//NONSGML v1.0//EN
CALSCALE:GREGORIAN
METHOD:PUBLISH
X-WR-CALNAME:92.5 the River
X-ORIGINAL-URL:https://theriverboston.com
X-WR-CALDESC:Events for 92.5 the River
BEGIN:VTIMEZONE
TZID:America/New_York
BEGIN:DAYLIGHT
TZOFFSETFROM:-0500
TZOFFSETTO:-0400
TZNAME:EDT
DTSTART:20250309T070000
END:DAYLIGHT
BEGIN:STANDARD
TZOFFSETFROM:-0400
TZOFFSETTO:-0500
TZNAME:EST
DTSTART:20251102T060000
END:STANDARD
END:VTIMEZONE
BEGIN:VEVENT
DTSTART;TZID=America/New_York:20250629T183000
DTEND;TZID=America/New_York:20250629T183000
DTSTAMP:20260419T083923
CREATED:20250605T135545Z
LAST-MODIFIED:20250605T135545Z
UID:227624-1751221800-1751221800@theriverboston.com
SUMMARY:EagleMania @ Lowell Summer Music Series
DESCRIPTION:EagleMania | Sunday\, June 29th \nShow: 6:30 pm \nEagleMania\, considered by some as “The world’s greatest Eagles Tribute Band”\, are rocking the Lowell Summer Music Series this June!  With over a decade of experience\, this cover band also dabbles in Don Henley\, Glenn Frey\, and Joe Walsh’s solo catalogs.  Audiences will not be disappointed by this talented\, internationally-acclaimed act! \nGet tickets here!
URL:https://theriverboston.com/events/eaglemania-lowell-summer/
LOCATION:Lowell Summer Music Series\, 40 French Street\, Lowell\, MA\, 01852\, United States
END:VEVENT
END:VCALENDAR