BEGIN:VCALENDAR
VERSION:2.0
PRODID:-//92.5 the River - ECPv5.16.3.1//NONSGML v1.0//EN
CALSCALE:GREGORIAN
METHOD:PUBLISH
X-WR-CALNAME:92.5 the River
X-ORIGINAL-URL:https://theriverboston.com
X-WR-CALDESC:Events for 92.5 the River
BEGIN:VTIMEZONE
TZID:America/New_York
BEGIN:DAYLIGHT
TZOFFSETFROM:-0500
TZOFFSETTO:-0400
TZNAME:EDT
DTSTART:20250309T070000
END:DAYLIGHT
BEGIN:STANDARD
TZOFFSETFROM:-0400
TZOFFSETTO:-0500
TZNAME:EST
DTSTART:20251102T060000
END:STANDARD
END:VTIMEZONE
BEGIN:VEVENT
DTSTART;TZID=America/New_York:20250922T200000
DTEND;TZID=America/New_York:20250922T200000
DTSTAMP:20260422T224021
CREATED:20250422T181445Z
LAST-MODIFIED:20250422T181445Z
UID:227089-1758571200-1758571200@theriverboston.com
SUMMARY:Elvis Costello & The Imposters @ MGM Music Hall at Fenway
DESCRIPTION:Elvis Costello & The Imposters | Monday\, September 22nd \nDoors: 7 pm | Show: 8 pm  \nElvis Costello & The Imposters will perform the early songs of Elvis Costello in an 18-show run\, including a stop in Boston. The night will also feature special guest Charlie Sexton. Costello and crew are turning back the clock\, focusing on the early phase of his career between the 1977 debut album\, and 1986’s “Blood and Chocolate”.  The tour name refers to a series of demos Costello recorded in 1975. Don’t miss out on your chance to see this performance and get tickets here! \nTickets are on sale to the general public on April 25th. \nGet tickets here!
URL:https://theriverboston.com/events/elvis-costello-the-imposters-mgm-music-hall-at-fenway/
LOCATION:MGM Music Hall at Fenway\, 2 Lansdowne Street\, Boston\, MA\, 02215\, United States
END:VEVENT
END:VCALENDAR