BEGIN:VCALENDAR
VERSION:2.0
PRODID:-//92.5 the River - ECPv5.16.3.1//NONSGML v1.0//EN
CALSCALE:GREGORIAN
METHOD:PUBLISH
X-WR-CALNAME:92.5 the River
X-ORIGINAL-URL:https://theriverboston.com
X-WR-CALDESC:Events for 92.5 the River
BEGIN:VTIMEZONE
TZID:America/New_York
BEGIN:DAYLIGHT
TZOFFSETFROM:-0500
TZOFFSETTO:-0400
TZNAME:EDT
DTSTART:20250309T070000
END:DAYLIGHT
BEGIN:STANDARD
TZOFFSETFROM:-0400
TZOFFSETTO:-0500
TZNAME:EST
DTSTART:20251102T060000
END:STANDARD
END:VTIMEZONE
BEGIN:VEVENT
DTSTART;TZID=America/New_York:20250821T193000
DTEND;TZID=America/New_York:20250821T193000
DTSTAMP:20260424T043308
CREATED:20250401T154355Z
LAST-MODIFIED:20250401T184248Z
UID:226912-1755804600-1755804600@theriverboston.com
SUMMARY:Emmylou Harris @ Lowell Auditorium
DESCRIPTION:Buy/View Tickets \nEMMYLOU HARRIS LIVE\nTickets are on sale Friday\, April 4 at 10am \nA 14-time Grammy winner and Billboard Century Award recipient\, Emmylou Harris’ contribution as a singer and songwriter spans 40 years. She has recorded more than 25 albums and has lent her talents to countless fellow artists’ recordings. In recognition of her remarkable career\, Harris was inducted into the Country Music Hall of Fame in 2008 and earned a Grammy Lifetime Achievement award in 2018. \nHarris is known as much for her eloquently straightforward songwriting as for her incomparably expressive singing. Admired through her career for her talent as an artist and song connoisseur\, Harris shook up country radio in the 1970s\, and established herself as the premiere songwriter of a generation selling more than 15 million records and garnering 14 Grammy Awards\, three CMA Awards\, and four Americana Awards. \nEnter to win tickets through Sunday April 6 on The Winner’s Circle Page \n  \n\nDiscover More Upcoming Shows!
URL:https://theriverboston.com/events/emmylou-harris-lowell-auditorium/
LOCATION:Lowell Memorial Auditorium\, 50 E. Merrimack Street\, Lowell\, MA\, 01852\, United States
ORGANIZER;CN="Spectacle%20Live":MAILTO:info@spectaclemanagement.net
END:VEVENT
END:VCALENDAR