BEGIN:VCALENDAR
VERSION:2.0
PRODID:-//92.5 the River - ECPv5.16.3.1//NONSGML v1.0//EN
CALSCALE:GREGORIAN
METHOD:PUBLISH
X-WR-CALNAME:92.5 the River
X-ORIGINAL-URL:https://theriverboston.com
X-WR-CALDESC:Events for 92.5 the River
BEGIN:VTIMEZONE
TZID:America/New_York
BEGIN:DAYLIGHT
TZOFFSETFROM:-0500
TZOFFSETTO:-0400
TZNAME:EDT
DTSTART:20220313T070000
END:DAYLIGHT
BEGIN:STANDARD
TZOFFSETFROM:-0400
TZOFFSETTO:-0500
TZNAME:EST
DTSTART:20221106T060000
END:STANDARD
END:VTIMEZONE
BEGIN:VEVENT
DTSTART;TZID=America/New_York:20220205T200000
DTEND;TZID=America/New_York:20220205T200000
DTSTAMP:20260420T105829
CREATED:20210629T163021Z
LAST-MODIFIED:20210629T163021Z
UID:213916-1644091200-1644091200@theriverboston.com
SUMMARY:Erasure @ The Orpheum Theatre
DESCRIPTION:Don’t miss Erasure at The Orpheum Theatre in Boston\nConcert starts at 8 PM. \nWith the release of their 18th album\, The Neon\, Erasure comes to the Orpheum Theatre in Boston on Februrary 5\, 2022! This is part of their larger North American Tour happening durring 2021 and 2022 with the return of live music. Tickets are on sale now. \nCLICK HERE to purchase tickets! \nClick For All Things Erasure| Facebook | Twitter | Instagram \nPresented by:
URL:https://theriverboston.com/events/erasure-the-orpheum-theatre/
LOCATION:Orpheum Theatre\, 1 Hamilton Place\, Boston\, MA\, 02108\, United States
END:VEVENT
END:VCALENDAR