BEGIN:VCALENDAR
VERSION:2.0
PRODID:-//92.5 the River - ECPv5.16.3.1//NONSGML v1.0//EN
CALSCALE:GREGORIAN
METHOD:PUBLISH
X-WR-CALNAME:92.5 the River
X-ORIGINAL-URL:https://theriverboston.com
X-WR-CALDESC:Events for 92.5 the River
BEGIN:VTIMEZONE
TZID:America/New_York
BEGIN:DAYLIGHT
TZOFFSETFROM:-0500
TZOFFSETTO:-0400
TZNAME:EDT
DTSTART:20250309T070000
END:DAYLIGHT
BEGIN:STANDARD
TZOFFSETFROM:-0400
TZOFFSETTO:-0500
TZNAME:EST
DTSTART:20251102T060000
END:STANDARD
END:VTIMEZONE
BEGIN:VEVENT
DTSTART;TZID=America/New_York:20250916T193000
DTEND;TZID=America/New_York:20250916T193000
DTSTAMP:20260423T150205
CREATED:20250304T162210Z
LAST-MODIFIED:20250304T162210Z
UID:226594-1758051000-1758051000@theriverboston.com
SUMMARY:Eric Clapton @ TD Garden
DESCRIPTION:Eric Clapton | Tuesday\, September 16th \nDoors: 6:30pm | Show: 7:30pm \nLegendary guitarist Eric Clapton and special guest Jimmie Vaughan are coming to TD Garden this September! \nWith a career spanning over six decades\, Eric Clapton is one of the most influential and celebrated musicians of all time. From his work with Cream and Derek and the Dominos to his iconic solo career\, Clapton’s masterful guitar playing and timeless hits have defined generations of rock and blues. \nDon’t miss your chance to witness classics like “Layla”\, “Tears in Heaven”\, and “Wonderful Tonight” live on stage. This is a night of music history you won’t want to miss! \nTickets go on sale on March 7th @ 10am! \nGet tickets here! 
URL:https://theriverboston.com/events/eric-clapton-td-garden/
LOCATION:TD Garden\, 100 Legends Way\, Boston\, MA\, 02114\, United States
END:VEVENT
END:VCALENDAR