BEGIN:VCALENDAR
VERSION:2.0
PRODID:-//92.5 the River - ECPv5.16.3.1//NONSGML v1.0//EN
CALSCALE:GREGORIAN
METHOD:PUBLISH
X-WR-CALNAME:92.5 the River
X-ORIGINAL-URL:https://theriverboston.com
X-WR-CALDESC:Events for 92.5 the River
BEGIN:VTIMEZONE
TZID:America/New_York
BEGIN:DAYLIGHT
TZOFFSETFROM:-0500
TZOFFSETTO:-0400
TZNAME:EDT
DTSTART:20180311T070000
END:DAYLIGHT
BEGIN:STANDARD
TZOFFSETFROM:-0400
TZOFFSETTO:-0500
TZNAME:EST
DTSTART:20181104T060000
END:STANDARD
END:VTIMEZONE
BEGIN:VEVENT
DTSTART;TZID=America/New_York:20181229T193000
DTEND;TZID=America/New_York:20181229T210000
DTSTAMP:20260419T084305
CREATED:20181116T192712Z
LAST-MODIFIED:20181214T173547Z
UID:204849-1546111800-1546117200@theriverboston.com
SUMMARY:Face of Winter @ Inter-Lakes Community Auditorium
DESCRIPTION:  \nFACE OF WINTER at Inter-Lakes Community Auditorium \nThe 69th installment from Warren Miller Entertainment\, presented by Volkswagen\, will bring new and veteran athletes alike together to pay tribute to the man who started it all\, the late Warren Miller. Watch as the world’s best skiers and riders cover ground in some of the most legendary destinations\,  from Switzerland to Chamonix\, British Columbia to Alaska\, Chile\, Iceland\, New Zealand and more. Come check out the film and check out our sponsors Piche’s Ski and Snowboard Shop\, Lost River Boulder Gorge\, Mountain Club at Loon\, and Minus 33 Clothing! The show starts at 7:30 PM! Get your tickets now! \nYou can watch a trailer for the  film here.
URL:https://theriverboston.com/events/face-of-winter-inter-lakes-community-auditorium/
LOCATION:Inter-Lakes Community Auditorium\, 1 Laker Lane\, Meredith\, NH\, 03253\, United States
END:VEVENT
END:VCALENDAR