BEGIN:VCALENDAR
VERSION:2.0
PRODID:-//92.5 the River - ECPv5.16.3.1//NONSGML v1.0//EN
CALSCALE:GREGORIAN
METHOD:PUBLISH
X-WR-CALNAME:92.5 the River
X-ORIGINAL-URL:https://theriverboston.com
X-WR-CALDESC:Events for 92.5 the River
BEGIN:VTIMEZONE
TZID:America/New_York
BEGIN:DAYLIGHT
TZOFFSETFROM:-0500
TZOFFSETTO:-0400
TZNAME:EDT
DTSTART:20180311T070000
END:DAYLIGHT
BEGIN:STANDARD
TZOFFSETFROM:-0400
TZOFFSETTO:-0500
TZNAME:EST
DTSTART:20181104T060000
END:STANDARD
END:VTIMEZONE
BEGIN:VEVENT
DTSTART;TZID=America/New_York:20181230T160000
DTEND;TZID=America/New_York:20181230T210000
DTSTAMP:20260419T052226
CREATED:20181116T193506Z
LAST-MODIFIED:20181214T172548Z
UID:204856-1546185600-1546203600@theriverboston.com
SUMMARY:Face of Winter @ Jean's Playhouse
DESCRIPTION:  \nFACE OF WINTER at Jean’s Playhouse \nThe 69th installment from Warren Miller Entertainment\, presented by Volkswagen\, will bring new and veteran athletes alike together to pay tribute to the man who started it all\, the late Warren Miller. Watch as the world’s best skiers and riders cover ground in some of the most legendary destinations\,  from Switzerland to Chamonix\, British Columbia to Alaska\, Chile\, Iceland\, New Zealand and more. There will be two showings: one at 4 PM and another at 8 PM! Get your tickets now! \nYou can watch a trailer for the  film here.
URL:https://theriverboston.com/events/face-of-winter-jeans-playhouse/
LOCATION:Jean’s Playhouse\, 34 Papermill Drive\, Lincoln\, NH\, 03251\, United States
END:VEVENT
END:VCALENDAR