BEGIN:VCALENDAR
VERSION:2.0
PRODID:-//92.5 the River - ECPv5.16.3.1//NONSGML v1.0//EN
CALSCALE:GREGORIAN
METHOD:PUBLISH
X-WR-CALNAME:92.5 the River
X-ORIGINAL-URL:https://theriverboston.com
X-WR-CALDESC:Events for 92.5 the River
BEGIN:VTIMEZONE
TZID:America/New_York
BEGIN:DAYLIGHT
TZOFFSETFROM:-0500
TZOFFSETTO:-0400
TZNAME:EDT
DTSTART:20180311T070000
END:DAYLIGHT
BEGIN:STANDARD
TZOFFSETFROM:-0400
TZOFFSETTO:-0500
TZNAME:EST
DTSTART:20181104T060000
END:STANDARD
END:VTIMEZONE
BEGIN:VEVENT
DTSTART;TZID=America/New_York:20180908T093000
DTEND;TZID=America/New_York:20180908T103000
DTSTAMP:20260422T221143
CREATED:20180814T150907Z
LAST-MODIFIED:20180814T150907Z
UID:112444-1536399000-1536402600@theriverboston.com
SUMMARY:Fall Design Build Seminar!
DESCRIPTION:Come to the Fall Design Build Seminar on Saturday\, September 8th at 9:30 am!\nJoin GM Roth in their Nashua showroom Saturday\, September 8th from 9:30 to 10:30 for their Fall Design Build Seminar.  Light refreshments will be served.  It will be hosted by Theresa O’Brien – a nationally Certified Kitchen & Bath Designer\, who is also a Rhode Island School of Design graduate with over 25 years of experience designing projects. \n\nThe seminar will explain the benefits of the Design Build process itself\, and is an opportunity to learn all about the Design Build process and ask questions of experts in this field\,  if you’ve been considering a home improvement project! \n\nReservations are suggested (but walk ins will be accommodated as space allows). Call in to reserve your spot today:  (603) 880-3761. \n 
URL:https://theriverboston.com/events/fall-design-build-seminar/
LOCATION:GM Roth\, 12 Murphy Drive\, Unit G\, Nahua\, NH\, 03062\, United States
END:VEVENT
END:VCALENDAR