BEGIN:VCALENDAR
VERSION:2.0
PRODID:-//92.5 the River - ECPv5.16.3.1//NONSGML v1.0//EN
CALSCALE:GREGORIAN
METHOD:PUBLISH
X-WR-CALNAME:92.5 the River
X-ORIGINAL-URL:https://theriverboston.com
X-WR-CALDESC:Events for 92.5 the River
BEGIN:VTIMEZONE
TZID:America/New_York
BEGIN:DAYLIGHT
TZOFFSETFROM:-0500
TZOFFSETTO:-0400
TZNAME:EDT
DTSTART:20250309T070000
END:DAYLIGHT
BEGIN:STANDARD
TZOFFSETFROM:-0400
TZOFFSETTO:-0500
TZNAME:EST
DTSTART:20251102T060000
END:STANDARD
END:VTIMEZONE
BEGIN:VEVENT
DTSTART;TZID=America/New_York:20250629T170000
DTEND;TZID=America/New_York:20250629T213000
DTSTAMP:20260419T052237
CREATED:20250422T153040Z
LAST-MODIFIED:20250626T174334Z
UID:227081-1751216400-1751232600@theriverboston.com
SUMMARY:Family Fun & Fireworks @ Anheuser-Busch Brewery
DESCRIPTION:Family Fun & Fireworks | Sunday\, June 29th \nTime: 5-9;30 pm  \n\nGet ready for a spectacular family fun night! Join us for an unforgettable event featuring:  DJ entertainment by Mike Koutrobis\, A roaming magician show by Steve Charette\, Pony rides\, petting zoo\, face painting\, and food and beverages available for purchase!\n\nDon’t forget to bring your own chairs & blankets! Let’s make memories together under the stars with fireworks lighting up the sky!\n\nPre-Sale Tickets: Book tickets online here!\n$10 for Adults\n$7.50 for Under 21\n (Tickets at the door will increase to $15 for adults and $10 for kids)\n\n\nOfficial website here!
URL:https://theriverboston.com/events/family-fun-fireworks-anheuser-busch-brewery/
LOCATION:Anheuser-Busch Brewery\, 221 Daniel Webster Highway\, Merrimack\, NH\, 03054\, United States
END:VEVENT
END:VCALENDAR