BEGIN:VCALENDAR
VERSION:2.0
PRODID:-//92.5 the River - ECPv5.16.3.1//NONSGML v1.0//EN
CALSCALE:GREGORIAN
METHOD:PUBLISH
X-WR-CALNAME:92.5 the River
X-ORIGINAL-URL:https://theriverboston.com
X-WR-CALDESC:Events for 92.5 the River
BEGIN:VTIMEZONE
TZID:America/New_York
BEGIN:DAYLIGHT
TZOFFSETFROM:-0500
TZOFFSETTO:-0400
TZNAME:EDT
DTSTART:20150308T070000
END:DAYLIGHT
BEGIN:STANDARD
TZOFFSETFROM:-0400
TZOFFSETTO:-0500
TZNAME:EST
DTSTART:20151101T060000
END:STANDARD
END:VTIMEZONE
BEGIN:VEVENT
DTSTART;VALUE=DATE:20150621
DTEND;VALUE=DATE:20150622
DTSTAMP:20260422T152232
CREATED:20150528T141921Z
LAST-MODIFIED:20150528T141937Z
UID:7183-1434844800-1434931199@theriverboston.com
SUMMARY:Father's Day Special at Canobie Lake Park
DESCRIPTION:Dads FREE Admission and Lunch!!\nFind more specials \nCheck out Canobie Lake Park’s website and Facebook \nCheck out the River’s Facebook and Twitter to stay up to date on more deals this summer! \nFather’s Day Special : Dad’s will receive FREE admission and lunch when accompanied by a paid child’s admission ticket purchased at the Park on June 21!
URL:https://theriverboston.com/events/fathers-day-special-at-canobie-lake-park/
LOCATION:Canobie Lake Park\, 85 N Policy St\, Salem\, NH\, 03079\, United States
END:VEVENT
END:VCALENDAR