BEGIN:VCALENDAR
VERSION:2.0
PRODID:-//92.5 the River - ECPv5.16.3.1//NONSGML v1.0//EN
CALSCALE:GREGORIAN
METHOD:PUBLISH
X-WR-CALNAME:92.5 the River
X-ORIGINAL-URL:https://theriverboston.com
X-WR-CALDESC:Events for 92.5 the River
BEGIN:VTIMEZONE
TZID:America/New_York
BEGIN:DAYLIGHT
TZOFFSETFROM:-0500
TZOFFSETTO:-0400
TZNAME:EDT
DTSTART:20160313T070000
END:DAYLIGHT
BEGIN:STANDARD
TZOFFSETFROM:-0400
TZOFFSETTO:-0500
TZNAME:EST
DTSTART:20161106T060000
END:STANDARD
END:VTIMEZONE
BEGIN:VEVENT
DTSTART;TZID=America/New_York:20161117T200000
DTEND;TZID=America/New_York:20161120T150000
DTSTAMP:20260424T210817
CREATED:20161103T144245Z
LAST-MODIFIED:20161103T144701Z
UID:24764-1479412800-1479654000@theriverboston.com
SUMMARY:Firehouse Center for the Arts presents: The Woman In Black
DESCRIPTION:Firehouse Center for the Arts presents Stephen Mallatratt’s theatrical version of The Woman In Black. This classic ghost story builds to a horrifying climax as the young protagonist uncovers the mystery of The Woman In Black. \nClosing Night is Sunday\, November 20th @ 3:00pm! \nRun dates are as follows:\nThursday-Saturday @ 8:00pm\nSunday Matinees @ 3:00pm\nNovember 10-13th\nNovember 17-20th\nGet tickets for a showing of The Woman In Black
URL:https://theriverboston.com/events/firehouse-center-arts-presents-woman-black-2/
LOCATION:Firehouse Center for the Arts\, Market Square\, Newburyport\, MA\, 01950\, United States
END:VEVENT
END:VCALENDAR