BEGIN:VCALENDAR
VERSION:2.0
PRODID:-//92.5 the River - ECPv5.16.3.1//NONSGML v1.0//EN
CALSCALE:GREGORIAN
METHOD:PUBLISH
X-WR-CALNAME:92.5 the River
X-ORIGINAL-URL:https://theriverboston.com
X-WR-CALDESC:Events for 92.5 the River
BEGIN:VTIMEZONE
TZID:America/New_York
BEGIN:DAYLIGHT
TZOFFSETFROM:-0500
TZOFFSETTO:-0400
TZNAME:EDT
DTSTART:20180311T070000
END:DAYLIGHT
BEGIN:STANDARD
TZOFFSETFROM:-0400
TZOFFSETTO:-0500
TZNAME:EST
DTSTART:20181104T060000
END:STANDARD
END:VTIMEZONE
BEGIN:VEVENT
DTSTART;TZID=America/New_York:20181014T100000
DTEND;TZID=America/New_York:20181014T100000
DTSTAMP:20260421T115023
CREATED:20180809T172122Z
LAST-MODIFIED:20180809T172122Z
UID:112110-1539511200-1539511200@theriverboston.com
SUMMARY:Foot Race For The Fallen
DESCRIPTION:Join the Manchester Police Department to honor the memory of their fallen officers. \nThe race begins at 10:15am at the Manchester Police Department \nRegistration is open until October 12th \nFor more information visit the Foot Race for The Fallen website \nProceeds benefit the Manchester Police Athletic League and the One Hundred Club of New Hampshire
URL:https://theriverboston.com/events/foot-race-for-the-fallen/
LOCATION:Manchester Police Department\, 405 Valley St\, Manchester\, NH\, 03103\, United States
END:VEVENT
END:VCALENDAR