BEGIN:VCALENDAR
VERSION:2.0
PRODID:-//92.5 the River - ECPv5.16.3.1//NONSGML v1.0//EN
CALSCALE:GREGORIAN
METHOD:PUBLISH
X-WR-CALNAME:92.5 the River
X-ORIGINAL-URL:https://theriverboston.com
X-WR-CALDESC:Events for 92.5 the River
BEGIN:VTIMEZONE
TZID:America/New_York
BEGIN:DAYLIGHT
TZOFFSETFROM:-0500
TZOFFSETTO:-0400
TZNAME:EDT
DTSTART:20210314T070000
END:DAYLIGHT
BEGIN:STANDARD
TZOFFSETFROM:-0400
TZOFFSETTO:-0500
TZNAME:EST
DTSTART:20211107T060000
END:STANDARD
END:VTIMEZONE
BEGIN:VEVENT
DTSTART;TZID=America/New_York:20211113T000000
DTEND;TZID=America/New_York:20211114T000000
DTSTAMP:20260420T182352
CREATED:20211105T172310Z
LAST-MODIFIED:20211105T172310Z
UID:215087-1636761600-1636848000@theriverboston.com
SUMMARY:Form + Function Artisan Fair
DESCRIPTION:Form + Function Artisan Fair\n\nCome Join Us At This FREE Two-Day Artesian Fair in Portsmouth\, NH!\nWe’re transforming 3S Artspace into a 3S Artspace marketplace so you can get a head start on your holiday shopping. Visit 3S November 13th and 14th to find inspired gifts for you and yours this holiday season. For those in the greater Seacoast community that haven’t yet had the pleasure of experiencing this festive event\, Form + Function is a curated showcase of unique\, hand-crafted work by skilled artisans and makers. There will be textiles\, housewares\, jewelry\, metal work\, accessories\, ceramics\, prints\, and more! \nRead here for more information! \nHealth & Safety: Masks are required to attend Form + Function regardless of vaccination status. (Proof of vaccination/proof of negative COVID test are not a requirement to attend this event.)
URL:https://theriverboston.com/events/form-function-artisan-fair/
LOCATION:3S Artspace\, 319 Vaughan St.\, Portsmouth\, NH\, 03801\, United States
END:VEVENT
END:VCALENDAR