BEGIN:VCALENDAR
VERSION:2.0
PRODID:-//92.5 the River - ECPv5.16.3.1//NONSGML v1.0//EN
CALSCALE:GREGORIAN
METHOD:PUBLISH
X-WR-CALNAME:92.5 the River
X-ORIGINAL-URL:https://theriverboston.com
X-WR-CALDESC:Events for 92.5 the River
BEGIN:VTIMEZONE
TZID:America/New_York
BEGIN:DAYLIGHT
TZOFFSETFROM:-0500
TZOFFSETTO:-0400
TZNAME:EDT
DTSTART:20170312T070000
END:DAYLIGHT
BEGIN:STANDARD
TZOFFSETFROM:-0400
TZOFFSETTO:-0500
TZNAME:EST
DTSTART:20171105T060000
END:STANDARD
END:VTIMEZONE
BEGIN:VEVENT
DTSTART;TZID=America/New_York:20170617T190000
DTEND;TZID=America/New_York:20170617T220000
DTSTAMP:20260425T115121
CREATED:20170221T172812Z
LAST-MODIFIED:20170221T201330Z
UID:35966-1497726000-1497736800@theriverboston.com
SUMMARY:Four Voices: Featuring  Joan Baez\, Indigo Girls\, & Mary Chapin Carpenter
DESCRIPTION:The “Four Voices” tour was born from a friendship between  Joan Baez\, Mary Chapin Carpenter\, Amy Ray and Emily Sallers. Over 25 years ago\, Baez invited Ray and Sallers to perform at a 1991 benefit at the Berkeley Community Theater for her human rights organization\, Humanitas. Among accepting her invitation Sallers and Ray insisted that Baez add Carpenter as well. Most recently\, while together at Baez’s 75th birthday concert at The Beacon Theatre\, they talked about going on tour together and a year later the Four Voices Tour was confirmed. Date Of Performance\, Friday June 17th at 7pm at the Koussevitzki Music Shed in Lenox Massachusetts  Tickets On Sale Friday February 24th by logging onto\, https://www.bso.org/Performance/Detail/86859 \n  \n  \n  \n\n  \n  \n  \n 
URL:https://theriverboston.com/events/four-voices-joan-baez-indigo-girls-mary-chapin-carpenter-popular-artist-series/
LOCATION:Koussevitzky Music Shed\, 297 West Street\, Lenox\, MA\, 01240\, United States
END:VEVENT
END:VCALENDAR