BEGIN:VCALENDAR
VERSION:2.0
PRODID:-//92.5 the River - ECPv5.16.3.1//NONSGML v1.0//EN
CALSCALE:GREGORIAN
METHOD:PUBLISH
X-WR-CALNAME:92.5 the River
X-ORIGINAL-URL:https://theriverboston.com
X-WR-CALDESC:Events for 92.5 the River
BEGIN:VTIMEZONE
TZID:America/New_York
BEGIN:DAYLIGHT
TZOFFSETFROM:-0500
TZOFFSETTO:-0400
TZNAME:EDT
DTSTART:20220313T070000
END:DAYLIGHT
BEGIN:STANDARD
TZOFFSETFROM:-0400
TZOFFSETTO:-0500
TZNAME:EST
DTSTART:20221106T060000
END:STANDARD
END:VTIMEZONE
BEGIN:VEVENT
DTSTART;TZID=America/New_York:20220212T200000
DTEND;TZID=America/New_York:20220212T200000
DTSTAMP:20260420T165914
CREATED:20220127T154534Z
LAST-MODIFIED:20220127T155118Z
UID:215615-1644696000-1644696000@theriverboston.com
SUMMARY:Frampton Comes Alive! at Regent Theatre
DESCRIPTION:Frampton Comes Alive! Performed by The Gary Backstrom Band\nBUY TICKETS\nFrampton comes alive will feature an 8-piece line-up of musicians paying tribute to one of their biggest influencers. The band lineup includes…\n…in addition to Gary Backstrom on guitar & vocals \n\nChris Nemitz on keys\nEverett Pendleton on bass guitar\nPeter Koeplin on drums\nYahuba Torres on percussion\nKit Holliday & Kevin Silvia on harmony vocals\nJohn Vanderpool on sax.\n\nGARY BACKSTROM\, the front man and founder of New England based jam band JIGGLE THE HANDLE\, has played regionally as well as toured the country many times over the past 30 years. Gary has played at High Sierra Fest and headlined Berkshire Mountain Music Fest\, Strange Creek and Wormtown Music Fest. \nHe has shared the stage with local favorites such as Max Creek\, Assembly of Dust\, Strange Folk\, and Ryan Montbleau as well as opening for THE ALLMAN BROS\, DEREK TRUCKS\, LOS LOBOS\, SPIN DOCTORS\, THE SAMPLES\, LITTLE FEAT\, RAT DOG and WIDESPREAD PANIC. Backstrom has played with Liberty Devito\, the drummer for Billy Joel’s Band\, while touring with the symphonic rock group PIANO MEN playing rock concerts with various 60 piece orchestras around the country. \n  \n  \n 
URL:https://theriverboston.com/events/frampton-comes-alive-tribute/
LOCATION:Regent Theatre\, 7 Medford Street\, Arlington\, MA\, 02474\, United States
END:VEVENT
END:VCALENDAR