BEGIN:VCALENDAR
VERSION:2.0
PRODID:-//92.5 the River - ECPv5.16.3.1//NONSGML v1.0//EN
CALSCALE:GREGORIAN
METHOD:PUBLISH
X-WR-CALNAME:92.5 the River
X-ORIGINAL-URL:https://theriverboston.com
X-WR-CALDESC:Events for 92.5 the River
BEGIN:VTIMEZONE
TZID:America/New_York
BEGIN:DAYLIGHT
TZOFFSETFROM:-0500
TZOFFSETTO:-0400
TZNAME:EDT
DTSTART:20250309T070000
END:DAYLIGHT
BEGIN:STANDARD
TZOFFSETFROM:-0400
TZOFFSETTO:-0500
TZNAME:EST
DTSTART:20251102T060000
END:STANDARD
END:VTIMEZONE
BEGIN:VEVENT
DTSTART;TZID=America/New_York:20250711T193000
DTEND;TZID=America/New_York:20250711T193000
DTSTAMP:20260424T102651
CREATED:20250605T143546Z
LAST-MODIFIED:20250605T143546Z
UID:227626-1752262200-1752262200@theriverboston.com
SUMMARY:Galactic @ Lowell Summer Music Series
DESCRIPTION:Galactic | Friday\, July 11th \nShow: 7:30 pm \nGalactic\, joined by Jelly Joseph and Brian Thomas and the BT All-Stars\, will be taking the stage at the Lowell Summer Music Series this July!  This New Orleans funk-blues-soul inspired band is hot on the heels of their newest album\, Audience With the Queen with featured vocalist Irma Thomas.  Rob Mercurio\, Galactic’s bassist\, notes how\, “Working with new artists always brings [energy and creativity] out in us. It shows us new possibilities and new limitations that set our goalposts in a different spot each time.”  You won’t want to miss this dynamic\, jazz club veteran of a band! \nGet tickets here!
URL:https://theriverboston.com/events/galactic-lowell-summer/
LOCATION:Lowell Summer Music Series\, 40 French Street\, Lowell\, MA\, 01852\, United States
END:VEVENT
END:VCALENDAR