BEGIN:VCALENDAR
VERSION:2.0
PRODID:-//92.5 the River - ECPv5.16.3.1//NONSGML v1.0//EN
CALSCALE:GREGORIAN
METHOD:PUBLISH
X-WR-CALNAME:92.5 the River
X-ORIGINAL-URL:https://theriverboston.com
X-WR-CALDESC:Events for 92.5 the River
BEGIN:VTIMEZONE
TZID:America/New_York
BEGIN:DAYLIGHT
TZOFFSETFROM:-0500
TZOFFSETTO:-0400
TZNAME:EDT
DTSTART:20170312T070000
END:DAYLIGHT
BEGIN:STANDARD
TZOFFSETFROM:-0400
TZOFFSETTO:-0500
TZNAME:EST
DTSTART:20171105T060000
END:STANDARD
END:VTIMEZONE
BEGIN:VEVENT
DTSTART;VALUE=DATE:20170520
DTEND;VALUE=DATE:20170521
DTSTAMP:20260425T164752
CREATED:20170502T143848Z
LAST-MODIFIED:20170502T151911Z
UID:43175-1495238400-1495324799@theriverboston.com
SUMMARY:Gardner Mattress Sales Event
DESCRIPTION:  \nThe River Roadies will be at the Gardner Mattress Showroom in Woburn on Saturday May 20th for the Gardner Mattress Sales Event from noon until 2 with the prize wheel and a chance to win great prizes! \nGardner Mattress has a proud tradition of quality mattresses affordably made. They have been voted “one of the best bedding deals in New England”.  They have 3 great showrooms in Salem\, Newton\, and Woburn. Stop by their Showroom in Woburn on May 20th for the Gardner Mattress Sales Event.
URL:https://theriverboston.com/events/gardner-mattress-sales-event/
LOCATION:Gardner Mattress\, 99 Commerce Way\, Woburn\, MA\, 01801\, United States
END:VEVENT
END:VCALENDAR