BEGIN:VCALENDAR
VERSION:2.0
PRODID:-//92.5 the River - ECPv5.16.3.1//NONSGML v1.0//EN
CALSCALE:GREGORIAN
METHOD:PUBLISH
X-WR-CALNAME:92.5 the River
X-ORIGINAL-URL:https://theriverboston.com
X-WR-CALDESC:Events for 92.5 the River
BEGIN:VTIMEZONE
TZID:America/New_York
BEGIN:DAYLIGHT
TZOFFSETFROM:-0500
TZOFFSETTO:-0400
TZNAME:EDT
DTSTART:20180311T070000
END:DAYLIGHT
BEGIN:STANDARD
TZOFFSETFROM:-0400
TZOFFSETTO:-0500
TZNAME:EST
DTSTART:20181104T060000
END:STANDARD
END:VTIMEZONE
BEGIN:VEVENT
DTSTART;TZID=America/New_York:20180818T130000
DTEND;TZID=America/New_York:20180818T170000
DTSTAMP:20260421T194947
CREATED:20180626T162203Z
LAST-MODIFIED:20180626T163349Z
UID:91170-1534597200-1534611600@theriverboston.com
SUMMARY:Gate City Brewfest 2018
DESCRIPTION:Join the River Roadies at Gate City Brewfest!\nStop by our tent for a chance to win tickets to Gov’t Mule and the Avett Brothers at the Xfinity Center on Saturday\, July 14.
URL:https://theriverboston.com/events/gate-city-brewfest-2018/
LOCATION:Holman Stadium\, 67 Amherst St\, Nashua\, NH\, 03063\, United States
END:VEVENT
END:VCALENDAR