BEGIN:VCALENDAR
VERSION:2.0
PRODID:-//92.5 the River - ECPv5.16.3.1//NONSGML v1.0//EN
CALSCALE:GREGORIAN
METHOD:PUBLISH
X-WR-CALNAME:92.5 the River
X-ORIGINAL-URL:https://theriverboston.com
X-WR-CALDESC:Events for 92.5 the River
BEGIN:VTIMEZONE
TZID:America/New_York
BEGIN:DAYLIGHT
TZOFFSETFROM:-0500
TZOFFSETTO:-0400
TZNAME:EDT
DTSTART:20180311T070000
END:DAYLIGHT
BEGIN:STANDARD
TZOFFSETFROM:-0400
TZOFFSETTO:-0500
TZNAME:EST
DTSTART:20181104T060000
END:STANDARD
END:VTIMEZONE
BEGIN:VEVENT
DTSTART;TZID=America/New_York:20180816T190000
DTEND;TZID=America/New_York:20180816T210000
DTSTAMP:20260421T134835
CREATED:20180803T193547Z
LAST-MODIFIED:20180803T193805Z
UID:111479-1534446000-1534453200@theriverboston.com
SUMMARY:Gate City Brewfest Pre-Party
DESCRIPTION:Gate City Brewfest Pre-Party at The Flight Center in Nashua\,  NH\nJoin the River Roadies and Bellavance Beverage on Thursday\, August 16\, at The Flight Center in Nashua\, NH! It’s your final chance to purchase tickets to Gate City Brewfest\, which is at the historic Holman Stadium on Saturday\, August 18. \n 
URL:https://theriverboston.com/events/gate-city-brewfest-pre-party/
LOCATION:The Flight Center\, 97 Main Street\, Nashua\, NH\, 03060\, United States
ORGANIZER;CN="92.5%20the%20River":MAILTO:promotions@wxrv.com
END:VEVENT
END:VCALENDAR