BEGIN:VCALENDAR
VERSION:2.0
PRODID:-//92.5 the River - ECPv5.16.3.1//NONSGML v1.0//EN
CALSCALE:GREGORIAN
METHOD:PUBLISH
X-WR-CALNAME:92.5 the River
X-ORIGINAL-URL:https://theriverboston.com
X-WR-CALDESC:Events for 92.5 the River
BEGIN:VTIMEZONE
TZID:America/New_York
BEGIN:DAYLIGHT
TZOFFSETFROM:-0500
TZOFFSETTO:-0400
TZNAME:EDT
DTSTART:20190310T070000
END:DAYLIGHT
BEGIN:STANDARD
TZOFFSETFROM:-0400
TZOFFSETTO:-0500
TZNAME:EST
DTSTART:20191103T060000
END:STANDARD
END:VTIMEZONE
BEGIN:VEVENT
DTSTART;TZID=America/New_York:20190831T153000
DTEND;TZID=America/New_York:20190831T220000
DTSTAMP:20260423T225211
CREATED:20190816T142458Z
LAST-MODIFIED:20190816T142458Z
UID:210214-1567265400-1567288800@theriverboston.com
SUMMARY:Ghostland Festival @ Thompson's Point
DESCRIPTION:Ghostland Festival at Thompson’s Point Saturday\, August 31st\nSpooky season is coming\, so check out Ghostland\, The Ghost of Paul Revere\, and more at the Ghostland Festival! Enter to win tickets before you buy\, contest ends 8/23 at 12AM.
URL:https://theriverboston.com/events/ghostland-festival-thompsons-point/
LOCATION:Thompson’s Point\, Thompsons Point Road\, Portland\, ME\, 04102\, United States
END:VEVENT
END:VCALENDAR