BEGIN:VCALENDAR
VERSION:2.0
PRODID:-//92.5 the River - ECPv5.16.3.1//NONSGML v1.0//EN
CALSCALE:GREGORIAN
METHOD:PUBLISH
X-WR-CALNAME:92.5 the River
X-ORIGINAL-URL:https://theriverboston.com
X-WR-CALDESC:Events for 92.5 the River
BEGIN:VTIMEZONE
TZID:America/New_York
BEGIN:DAYLIGHT
TZOFFSETFROM:-0500
TZOFFSETTO:-0400
TZNAME:EDT
DTSTART:20170312T070000
END:DAYLIGHT
BEGIN:STANDARD
TZOFFSETFROM:-0400
TZOFFSETTO:-0500
TZNAME:EST
DTSTART:20171105T060000
END:STANDARD
END:VTIMEZONE
BEGIN:VEVENT
DTSTART;TZID=America/New_York:20170128T200000
DTEND;TZID=America/New_York:20170128T200000
DTSTAMP:20260425T232414
CREATED:20170123T190207Z
LAST-MODIFIED:20170123T190831Z
UID:32961-1485633600-1485633600@theriverboston.com
SUMMARY:Gimme Live Presents: Satisfaction- The International Rolling Stones Show
DESCRIPTION:Gimme Live presents Satisfaction: The International Rolling Stones Show at The Larcom Performing Arts Theatre on Saturday\, January 28th! \nEnjoy the music of the Stones as it was meant to be experienced– up close and live\, played with reckless abandon by very talented musicians. Recognized as the world’s greatest show honoring “The World’s Greatest Band”\, Satisfaction follows the bad boys of the British Invasion from their roots in early-’60s London through “Satisfaction”\, “Jumpin’ Jack Flash”\, Exile on Main Street and beyond.
URL:https://theriverboston.com/events/gimme-live-presents-satisfaction-international-rolling-stones-show/
LOCATION:Larcom Performing Arts Theatre\, 13 Wallis Street \, Beverly\, MA\, 01915\, United States
END:VEVENT
END:VCALENDAR