BEGIN:VCALENDAR
VERSION:2.0
PRODID:-//92.5 the River - ECPv5.16.3.1//NONSGML v1.0//EN
CALSCALE:GREGORIAN
METHOD:PUBLISH
X-WR-CALNAME:92.5 the River
X-ORIGINAL-URL:https://theriverboston.com
X-WR-CALDESC:Events for 92.5 the River
BEGIN:VTIMEZONE
TZID:America/New_York
BEGIN:DAYLIGHT
TZOFFSETFROM:-0500
TZOFFSETTO:-0400
TZNAME:EDT
DTSTART:20210314T070000
END:DAYLIGHT
BEGIN:STANDARD
TZOFFSETFROM:-0400
TZOFFSETTO:-0500
TZNAME:EST
DTSTART:20211107T060000
END:STANDARD
END:VTIMEZONE
BEGIN:VEVENT
DTSTART;TZID=America/New_York:20211211T090000
DTEND;TZID=America/New_York:20211211T210000
DTSTAMP:20260419T113250
CREATED:20211206T182658Z
LAST-MODIFIED:20211206T182658Z
UID:215340-1639213200-1639256400@theriverboston.com
SUMMARY:Girls Inc. Holiday Book Fair @ Barnes and Noble
DESCRIPTION:Come Join Girls Inc. To Do Your Holiday Shopping!\n\nGirls Inc. of New Hampshire is excited to announce they are partnering with Barnes & Noble for a holiday book fair on Saturday\, December 11th.\nThe book fair will allow holiday shoppers the opportunity to support Girls Inc. NH by using a unique book fair ID number that will identify purchases both in store and online. Girls Inc. will receive a percentage of those sales which they will use to fill their library with new books. Don’t miss out on your chance to enjoy Christmas carols at 11pm performed by the Girls Inc. Chorus as well as Sue Tyler who will be reading some of her favorite winter stories for children ages 3-7 at 1pm! Click here for another way to donate. \nThe book fair ID number is 12615126 and will also appear on our Facebook page for online shoppers\, this code can be used online through December 15th. \nThis is an all-day event\, the store will be open 9am-9pm.\nGirls Inc. will have a staff member there from 9am-3pm.
URL:https://theriverboston.com/events/girls-inc-holiday-book-fair-barnes-and-noble/
LOCATION:Barnes & Noble\, 1741 South Willow Street\, Manchester\, NH\, 03103\, United States
END:VEVENT
END:VCALENDAR