BEGIN:VCALENDAR
VERSION:2.0
PRODID:-//92.5 the River - ECPv5.16.3.1//NONSGML v1.0//EN
CALSCALE:GREGORIAN
METHOD:PUBLISH
X-WR-CALNAME:92.5 the River
X-ORIGINAL-URL:https://theriverboston.com
X-WR-CALDESC:Events for 92.5 the River
BEGIN:VTIMEZONE
TZID:America/New_York
BEGIN:DAYLIGHT
TZOFFSETFROM:-0500
TZOFFSETTO:-0400
TZNAME:EDT
DTSTART:20150308T070000
END:DAYLIGHT
BEGIN:STANDARD
TZOFFSETFROM:-0400
TZOFFSETTO:-0500
TZNAME:EST
DTSTART:20151101T060000
END:STANDARD
END:VTIMEZONE
BEGIN:VEVENT
DTSTART;TZID=America/New_York:20150808T090000
DTEND;TZID=America/New_York:20150808T193000
DTSTAMP:20260420T183114
CREATED:20150727T133536Z
LAST-MODIFIED:20150727T134923Z
UID:7908-1439024400-1439062200@theriverboston.com
SUMMARY:Gloucester Blues Festival
DESCRIPTION:Boston Fence & Vinyl is proud to sponsor the Gloucester Blues Festival\nOn the beach at Stage Fort Park!\nCome enjoy delicious food\, cold beverages\, and world class blues on the beach in Gloucester! \nMusical acts include Sugar Blue\, Lil’ Ed & The Blues Imperials\, Joanna Connor and many more… \n\nVIEW THE FULL LINEUP\nPURCHASE TICKETS\nFIND MORE EVENT DETAILS
URL:https://theriverboston.com/events/gloucester-blues-festival/
LOCATION:Stage Fort Park\, 24 Hough Ave\, Gloucester\, MA\, 01930\, United States
END:VEVENT
END:VCALENDAR