BEGIN:VCALENDAR
VERSION:2.0
PRODID:-//92.5 the River - ECPv5.16.3.1//NONSGML v1.0//EN
CALSCALE:GREGORIAN
METHOD:PUBLISH
X-WR-CALNAME:92.5 the River
X-ORIGINAL-URL:https://theriverboston.com
X-WR-CALDESC:Events for 92.5 the River
BEGIN:VTIMEZONE
TZID:America/New_York
BEGIN:DAYLIGHT
TZOFFSETFROM:-0500
TZOFFSETTO:-0400
TZNAME:EDT
DTSTART:20180311T070000
END:DAYLIGHT
BEGIN:STANDARD
TZOFFSETFROM:-0400
TZOFFSETTO:-0500
TZNAME:EST
DTSTART:20181104T060000
END:STANDARD
END:VTIMEZONE
BEGIN:VEVENT
DTSTART;TZID=America/New_York:20181108T180000
DTEND;TZID=America/New_York:20181108T200000
DTSTAMP:20260420T135653
CREATED:20181011T173217Z
LAST-MODIFIED:20181011T173217Z
UID:203125-1541700000-1541707200@theriverboston.com
SUMMARY:GM Roth Kitchen & Bath Seminar
DESCRIPTION:Not having as many people over to the house because the kitchen is too small\, or the bathroom is old? GM Roth’s Kitchen & Bath Seminar will teach you how remodeling your kitchen or bathroom can change the feel of your home. \nThis complimentary seminar will be held Thursday 11/8 at 6pm in the award winning G.M. Roth Showroom. Experienced Kitchen and Bath designer\, Terri Stevens\, will be going over the G.M. Roth design process and how it is different from a typical contractor. She has over 18 years experience and continues to expand her skill set by taking classes and staying up to date on design trends. \nThe kitchen and bathroom are the two places guests typically see when entering your home. Feel confident inviting people over. \nFall in love with entertaining again.
URL:https://theriverboston.com/events/gm-roth-kitchen-bath-seminar-2/
LOCATION:GM Roth\, 12 Murphy Drive\, Unit G\, Nahua\, NH\, 03062\, United States
END:VEVENT
END:VCALENDAR