BEGIN:VCALENDAR
VERSION:2.0
PRODID:-//92.5 the River - ECPv5.16.3.1//NONSGML v1.0//EN
CALSCALE:GREGORIAN
METHOD:PUBLISH
X-WR-CALNAME:92.5 the River
X-ORIGINAL-URL:https://theriverboston.com
X-WR-CALDESC:Events for 92.5 the River
BEGIN:VTIMEZONE
TZID:America/New_York
BEGIN:DAYLIGHT
TZOFFSETFROM:-0500
TZOFFSETTO:-0400
TZNAME:EDT
DTSTART:20200308T070000
END:DAYLIGHT
BEGIN:STANDARD
TZOFFSETFROM:-0400
TZOFFSETTO:-0500
TZNAME:EST
DTSTART:20201101T060000
END:STANDARD
END:VTIMEZONE
BEGIN:VEVENT
DTSTART;TZID=America/New_York:20200416T120000
DTEND;TZID=America/New_York:20200416T130000
DTSTAMP:20260420T115619
CREATED:20200415T153008Z
LAST-MODIFIED:20200415T153636Z
UID:212299-1587038400-1587042000@theriverboston.com
SUMMARY:GM Roth's Therapy Thursday’s Online
DESCRIPTION:Does being stuck inside have you down? Envision celebrating togetherness again. \nJoin a G.M. Roth certified designer for our Therapy Thursday’s series taking place at noontime in a webinar! There are three sessions to look forward to! One will be taking place per day on April 16th\, 23rd\, and 30th! \nThink about how much more will you appreciate having friends and family over when this is over. We’ll go over how we are able to start the design process virtually so you can visualize your project while staying safely in your home. \nOnce signed up you will be sent a link to join the webinar! Space is limited to 6 people per session\, and there will be 3 sessions. \nRegister now online! For more information\, visit the GM Roth Events page!
URL:https://theriverboston.com/events/gm-roths-therapy-thursdays-online/
LOCATION:GM Roth\, 12 Murphy Drive\, Unit G\, Nahua\, NH\, 03062\, United States
END:VEVENT
END:VCALENDAR