BEGIN:VCALENDAR
VERSION:2.0
PRODID:-//92.5 the River - ECPv5.16.3.1//NONSGML v1.0//EN
CALSCALE:GREGORIAN
METHOD:PUBLISH
X-WR-CALNAME:92.5 the River
X-ORIGINAL-URL:https://theriverboston.com
X-WR-CALDESC:Events for 92.5 the River
BEGIN:VTIMEZONE
TZID:America/New_York
BEGIN:DAYLIGHT
TZOFFSETFROM:-0500
TZOFFSETTO:-0400
TZNAME:EDT
DTSTART:20250309T070000
END:DAYLIGHT
BEGIN:STANDARD
TZOFFSETFROM:-0400
TZOFFSETTO:-0500
TZNAME:EST
DTSTART:20251102T060000
END:STANDARD
END:VTIMEZONE
BEGIN:VEVENT
DTSTART;TZID=America/New_York:20250806T193000
DTEND;TZID=America/New_York:20250806T193000
DTSTAMP:20260422T183418
CREATED:20250721T152241Z
LAST-MODIFIED:20250721T153920Z
UID:228226-1754508600-1754508600@theriverboston.com
SUMMARY:Goo Goo Dolls @ BankNH Pavilion
DESCRIPTION:Goo Goo Dolls | Wednesday\, August 6th \nDoors: 5:30pm | Show: 7:30pm \nAlt-rock icons Goo Goo Dolls are bringing their Big Night Out Tour to BankNH Pavilion in Gilford on Wednesday\, August 6 – and you could be there for free! Expect chart-topping classics like “Iris” and “Slide”\, delivered with the passion and power that’s made their live shows legendary. Kicking off the night is Dashboard Confessional\, the acoustic-driven emo favorites behind “Vindicated” and “Hands Down.” \nDon’t miss your chance to see Goo Goo Dolls at BankNH Pavilion! \nTickets here!
URL:https://theriverboston.com/events/goo-goo-dolls-banknh/
LOCATION:BankNH Pavilion\, 72 Meadowbrook Ln\, Gilford\, NH\, 03249\, United States
END:VEVENT
END:VCALENDAR