BEGIN:VCALENDAR
VERSION:2.0
PRODID:-//92.5 the River - ECPv5.16.3.1//NONSGML v1.0//EN
CALSCALE:GREGORIAN
METHOD:PUBLISH
X-WR-CALNAME:92.5 the River
X-ORIGINAL-URL:https://theriverboston.com
X-WR-CALDESC:Events for 92.5 the River
BEGIN:VTIMEZONE
TZID:America/New_York
BEGIN:DAYLIGHT
TZOFFSETFROM:-0500
TZOFFSETTO:-0400
TZNAME:EDT
DTSTART:20190310T070000
END:DAYLIGHT
BEGIN:STANDARD
TZOFFSETFROM:-0400
TZOFFSETTO:-0500
TZNAME:EST
DTSTART:20191103T060000
END:STANDARD
END:VTIMEZONE
BEGIN:VEVENT
DTSTART;TZID=America/New_York:20190504T080000
DTEND;TZID=America/New_York:20190504T170000
DTSTAMP:20260420T173012
CREATED:20190108T151616Z
LAST-MODIFIED:20190110T192410Z
UID:206286-1556956800-1556989200@theriverboston.com
SUMMARY:Goodale's Annual Spring Bike Swap
DESCRIPTION:The cold weather is finally on it’s way out\, which means it’s the perfect time to find a new bicycle for Spring! Head down to Goodale’s Annual Spring Bike Swap in Nashua\, NH to find one that’s right for you! \nHere is how it works: \nDrop off a bike in good working condition previously purchased from a bicycle shop –department store bikes will NOT be accepted. \nDrop off location: \nGoodale’s –Nashua Store \nWe will help you determine fair market value.  YOU MUST DECIDE IF YOU WANT THE 100% STORE CREDIT OR 75% PAY-OUT AT THE TIME YOU DROP YOUR BIKE OFF. \nWHAT HAPPENS AFTER THE SWAP: \nIf you do not receive a phone call us after 3 to 5 days after the swap ends\, that means your bike sold.  The option you selected at time of drop off will be applied.  If you elected to receive a check\, that will be sent within 7 to 10 days. \n** If your bike does not sell\,  you will receive a phone call asking to come pick up your bike by Saturday\,  May 20\, 2019  at the location that you dropped it off.  If the bikes are not picked up within 45 days\, they will be donated to the Goodwill.**  \n  \nTHE RIVER ROADIES WILL BE THERE SATURDAY 5/4 FROM 8-10AM.
URL:https://theriverboston.com/events/goodales-annual-spring-bike-swap/
END:VEVENT
END:VCALENDAR