BEGIN:VCALENDAR
VERSION:2.0
PRODID:-//92.5 the River - ECPv5.16.3.1//NONSGML v1.0//EN
CALSCALE:GREGORIAN
METHOD:PUBLISH
X-WR-CALNAME:92.5 the River
X-ORIGINAL-URL:https://theriverboston.com
X-WR-CALDESC:Events for 92.5 the River
BEGIN:VTIMEZONE
TZID:America/New_York
BEGIN:DAYLIGHT
TZOFFSETFROM:-0500
TZOFFSETTO:-0400
TZNAME:EDT
DTSTART:20260308T070000
END:DAYLIGHT
BEGIN:STANDARD
TZOFFSETFROM:-0400
TZOFFSETTO:-0500
TZNAME:EST
DTSTART:20261101T060000
END:STANDARD
END:VTIMEZONE
BEGIN:VEVENT
DTSTART;TZID=America/New_York:20260701T190000
DTEND;TZID=America/New_York:20260701T190000
DTSTAMP:20260424T175435
CREATED:20260126T203807Z
LAST-MODIFIED:20260126T203807Z
UID:229992-1782932400-1782932400@theriverboston.com
SUMMARY:Goose Night 2 at Leader Bank Pav
DESCRIPTION:View Tickets On Sale Friday January 30 at 10am \nAn Evening With Goose\nDoors: 6 PM – The Connecticut rock band Goose hits the road this summer\, stopping in Boston for two nights at the end of June. You’ve been hearing the singles “Madalena”\, and “Give It Time”\, and “Hungersite” on the River. \nGoose will be donating $1 from every ticket sold to Western Sun Foundation. Western Sun Foundation is a volunteer-run 501(c)(3) nonprofit organization that provides charitable support in the\nform of financial gifts to small-mid sized nonprofits in the communities fans of Goose travel through. For more information visit https://www.westernsunfoundation.org/. No portion of the ticket
URL:https://theriverboston.com/events/goose-night-2-2026/
LOCATION:Leader Bank Pavilion\, 290 Northern Ave\, Boston\, MA\, 02210\, United States
END:VEVENT
END:VCALENDAR