BEGIN:VCALENDAR
VERSION:2.0
PRODID:-//92.5 the River - ECPv5.16.3.1//NONSGML v1.0//EN
CALSCALE:GREGORIAN
METHOD:PUBLISH
X-WR-CALNAME:92.5 the River
X-ORIGINAL-URL:https://theriverboston.com
X-WR-CALDESC:Events for 92.5 the River
BEGIN:VTIMEZONE
TZID:America/New_York
BEGIN:DAYLIGHT
TZOFFSETFROM:-0500
TZOFFSETTO:-0400
TZNAME:EDT
DTSTART:20250309T070000
END:DAYLIGHT
BEGIN:STANDARD
TZOFFSETFROM:-0400
TZOFFSETTO:-0500
TZNAME:EST
DTSTART:20251102T060000
END:STANDARD
END:VTIMEZONE
BEGIN:VEVENT
DTSTART;TZID=America/New_York:20250814T200000
DTEND;TZID=America/New_York:20250814T200000
DTSTAMP:20260423T165924
CREATED:20250327T190418Z
LAST-MODIFIED:20250327T190418Z
UID:226866-1755201600-1755201600@theriverboston.com
SUMMARY:Grace Bowers @ Lake Morey
DESCRIPTION:Grace Bowers | Thursday\, August 14th \nDoors: 7 pm | Show: 8 pm \nGrace Bowers Live at Lake Morey – Free Admission! \nAt just 18 years old\, Grace Bowers is already making waves with her electrifying guitar skills and bluesy Southern rock sound. Known for her soulful solos and high-energy performances\, she’s quickly becoming one of the most exciting young artists in music today. \n Don’t miss your chance to see this rising star shred live at the Lake Morey Summer Concert Series and enjoy an unforgettable night of music!
URL:https://theriverboston.com/events/grace-bowers-lake-morey/
LOCATION:Lake Morey Resort\, 82 Clubhouse Road\, Fairlee\, Vermont\, 05045\, United States
END:VEVENT
END:VCALENDAR