BEGIN:VCALENDAR
VERSION:2.0
PRODID:-//92.5 the River - ECPv5.16.3.1//NONSGML v1.0//EN
CALSCALE:GREGORIAN
METHOD:PUBLISH
X-WR-CALNAME:92.5 the River
X-ORIGINAL-URL:https://theriverboston.com
X-WR-CALDESC:Events for 92.5 the River
BEGIN:VTIMEZONE
TZID:America/New_York
BEGIN:DAYLIGHT
TZOFFSETFROM:-0500
TZOFFSETTO:-0400
TZNAME:EDT
DTSTART:20190310T070000
END:DAYLIGHT
BEGIN:STANDARD
TZOFFSETFROM:-0400
TZOFFSETTO:-0500
TZNAME:EST
DTSTART:20191103T060000
END:STANDARD
END:VTIMEZONE
BEGIN:VEVENT
DTSTART;TZID=America/New_York:20190409T160000
DTEND;TZID=America/New_York:20190409T190000
DTSTAMP:20260420T022838
CREATED:20190404T194208Z
LAST-MODIFIED:20190404T194208Z
UID:208018-1554825600-1554836400@theriverboston.com
SUMMARY:Grand Opening Of Boston Laser - North Andover!
DESCRIPTION:Boston Laser is opening a brand-new location in Andover\, Massachusetts! The River Street Team will be there giving away giving away merch and tickets to one of the season’s hottest shows! Come see what Boston Laser has to offer  at its grand opening on Tuesday\, April 9th!
URL:https://theriverboston.com/events/grand-opening-of-boston-laser-north-andover/
LOCATION:Boston Laser – Andover\, 323 Lowell St\, Andover\, MA\, 01810\, United States
END:VEVENT
END:VCALENDAR