BEGIN:VCALENDAR
VERSION:2.0
PRODID:-//92.5 the River - ECPv5.16.3.1//NONSGML v1.0//EN
CALSCALE:GREGORIAN
METHOD:PUBLISH
X-WR-CALNAME:92.5 the River
X-ORIGINAL-URL:https://theriverboston.com
X-WR-CALDESC:Events for 92.5 the River
BEGIN:VTIMEZONE
TZID:America/New_York
BEGIN:DAYLIGHT
TZOFFSETFROM:-0500
TZOFFSETTO:-0400
TZNAME:EDT
DTSTART:20160313T070000
END:DAYLIGHT
BEGIN:STANDARD
TZOFFSETFROM:-0400
TZOFFSETTO:-0500
TZNAME:EST
DTSTART:20161106T060000
END:STANDARD
END:VTIMEZONE
BEGIN:VEVENT
DTSTART;TZID=America/New_York:20161015T090000
DTEND;TZID=America/New_York:20161015T150000
DTSTAMP:20260423T013940
CREATED:20161004T163032Z
LAST-MODIFIED:20161004T163412Z
UID:21568-1476522000-1476543600@theriverboston.com
SUMMARY:Grappone Automotive Presents: Operation Kidsafe
DESCRIPTION:One Million Children are protected by Operation Kidsafe\, and they aren’t stopping there. Join them at Grappone Ford to spread the word about child safety. \nOperation Kidsafe Safety Event in\nBow NH area October 12th 13th & 15th\, 2016\n\nOperation Kidsafe Free Child Safety Events are happening all across the U.S. and Canada.  An event has been scheduled for your area.\n\nOperation Kidsafe is Free and private for families.  Parents take home the only record of the visit….(a Bio Document) that is ready to hand to law enforcement in an emergency.  Safety tips to start a family safety action plan are also included.\n\nOperation Kidsafe founder Mark Bott is available for interviews. Your listeners and readers will long appreciate your efforts to let them know about this free and potentially lifesaving Child Safety Week program.\n\nThe Event is free for every family.  No special information is needed\, as there is no data basing.  Parents take home the only record of the visit.\n\nBrought to you by Grappone Automotive Group\nIf you’d like more information on this event\, visit Operation Kidsafe\n 
URL:https://theriverboston.com/events/grappone-automotive-presents-operation-kidsafe-2/
LOCATION:Grappone Ford\, 506 Route 3A\, Bow \, NH\, 03304\, United States
ORGANIZER;CN="Operation%20Kidsafe":MAILTO:kidsafeprint@gmail.com
END:VEVENT
END:VCALENDAR