BEGIN:VCALENDAR
VERSION:2.0
PRODID:-//92.5 the River - ECPv5.16.3.1//NONSGML v1.0//EN
CALSCALE:GREGORIAN
METHOD:PUBLISH
X-WR-CALNAME:92.5 the River
X-ORIGINAL-URL:https://theriverboston.com
X-WR-CALDESC:Events for 92.5 the River
BEGIN:VTIMEZONE
TZID:America/New_York
BEGIN:DAYLIGHT
TZOFFSETFROM:-0500
TZOFFSETTO:-0400
TZNAME:EDT
DTSTART:20260308T070000
END:DAYLIGHT
BEGIN:STANDARD
TZOFFSETFROM:-0400
TZOFFSETTO:-0500
TZNAME:EST
DTSTART:20261101T060000
END:STANDARD
END:VTIMEZONE
BEGIN:VEVENT
DTSTART;TZID=America/New_York:20260509T120000
DTEND;TZID=America/New_York:20260509T160000
DTSTAMP:20260419T083953
CREATED:20260410T151721Z
LAST-MODIFIED:20260410T152001Z
UID:230639-1778328000-1778342400@theriverboston.com
SUMMARY:The Great Bay Foodtruck Festival
DESCRIPTION:The Great Bay Foodtruck Festival | Saturday\, May 9 \nTime: 12pm – 4pm \nHungry for something fun this spring? Then roll on over to the 6th Annual Great Bay Food Truck Festival! \nJoin the Exeter Area Chamber of Commerce AND the Stratham Parts & Recreation Department on Saturday\, May 9th from 12noon to 4pm at beautiful Stratham Hill Park. Taste your way through amazing food trucks\, relax in the beer garden\, enjoy live music\, browse local artisans\, and let the kids run wild in the Kid Zone! Perfect for foodies\, families\, and friends! \nPresented by Stratham Parks & Rec and the Exeter Area Chamber of Commerce \nMore Info Here!
URL:https://theriverboston.com/events/great-bay-foodtruck-festival/
LOCATION:Stratham Hill Park\, 270 Portsmouth Ave.\, Stratham\, NH\, 03885\, United States
END:VEVENT
END:VCALENDAR