BEGIN:VCALENDAR
VERSION:2.0
PRODID:-//92.5 the River - ECPv5.16.3.1//NONSGML v1.0//EN
CALSCALE:GREGORIAN
METHOD:PUBLISH
X-WR-CALNAME:92.5 the River
X-ORIGINAL-URL:https://theriverboston.com
X-WR-CALDESC:Events for 92.5 the River
BEGIN:VTIMEZONE
TZID:America/New_York
BEGIN:DAYLIGHT
TZOFFSETFROM:-0500
TZOFFSETTO:-0400
TZNAME:EDT
DTSTART:20170312T070000
END:DAYLIGHT
BEGIN:STANDARD
TZOFFSETFROM:-0400
TZOFFSETTO:-0500
TZNAME:EST
DTSTART:20171105T060000
END:STANDARD
END:VTIMEZONE
BEGIN:VEVENT
DTSTART;TZID=America/New_York:20170825T193000
DTEND;TZID=America/New_York:20170825T213000
DTSTAMP:20260420T003201
CREATED:20170310T172209Z
LAST-MODIFIED:20170310T172433Z
UID:37498-1503689400-1503696600@theriverboston.com
SUMMARY:Great Waters Music Festival: Barbra & Frank
DESCRIPTION:See Barbra & Frank perform at Great Waters Music Festival\non Friday\, August 25th! \nIt is unlikely that the two powerhouse voices of the century would have ever shared the same stage…until now! Two great artists paying tribute to their characters\, singing the most memorable music and songs ever written. \nThey never worked together\, exactly\, except when they taped a duet in separate recording sessions\, but it’s tantalizing to think what it would have been like to have Barbra Streisand and Frank Sinatra teamed up for a concert tour. Just imagine the possibilities. Would one have outshone the other? Would their on stage banter have been friendly or a bit snippy?
URL:https://theriverboston.com/events/great-waters-music-festival-barbra-frank/
LOCATION:Great Waters Music Festival\, 15 Varney Rd\, Wolfeboro\, NH\, 03894\, United States
END:VEVENT
END:VCALENDAR