BEGIN:VCALENDAR
VERSION:2.0
PRODID:-//92.5 the River - ECPv5.16.3.1//NONSGML v1.0//EN
CALSCALE:GREGORIAN
METHOD:PUBLISH
X-WR-CALNAME:92.5 the River
X-ORIGINAL-URL:https://theriverboston.com
X-WR-CALDESC:Events for 92.5 the River
BEGIN:VTIMEZONE
TZID:America/New_York
BEGIN:DAYLIGHT
TZOFFSETFROM:-0500
TZOFFSETTO:-0400
TZNAME:EDT
DTSTART:20170312T070000
END:DAYLIGHT
BEGIN:STANDARD
TZOFFSETFROM:-0400
TZOFFSETTO:-0500
TZNAME:EST
DTSTART:20171105T060000
END:STANDARD
END:VTIMEZONE
BEGIN:VEVENT
DTSTART;TZID=America/New_York:20170421T193000
DTEND;TZID=America/New_York:20170421T210000
DTSTAMP:20260425T183755
CREATED:20170309T185647Z
LAST-MODIFIED:20170309T185647Z
UID:37452-1492803000-1492808400@theriverboston.com
SUMMARY:Great Waters Music Festival: Hayley Reardon
DESCRIPTION:See Hayley Reardon perform at the Great Waters Music Festival on Friday\, April 21st! \nReardon was named a Bostonian of the Year by the Boston Globe Magazine in 2012 in celebration of not only her music but her work to use it as a vessel for empowerment. With a voice that is distinctively rich and a contemplative sincerity in her songwriting\, Reardon has far more in common with Patty Griffin\, Lucinda Williams\, and Tracy Chapman than many of today’s young pop singer/songwriters\, boasting a lyrical and melodic weight far beyond her years.
URL:https://theriverboston.com/events/great-waters-music-festival-hayley-reardon/
LOCATION:Great Waters Music Festival\, 15 Varney Rd\, Wolfeboro\, NH\, 03894\, United States
END:VEVENT
END:VCALENDAR