BEGIN:VCALENDAR
VERSION:2.0
PRODID:-//92.5 the River - ECPv5.16.3.1//NONSGML v1.0//EN
CALSCALE:GREGORIAN
METHOD:PUBLISH
X-WR-CALNAME:92.5 the River
X-ORIGINAL-URL:https://theriverboston.com
X-WR-CALDESC:Events for 92.5 the River
BEGIN:VTIMEZONE
TZID:America/New_York
BEGIN:DAYLIGHT
TZOFFSETFROM:-0500
TZOFFSETTO:-0400
TZNAME:EDT
DTSTART:20170312T070000
END:DAYLIGHT
BEGIN:STANDARD
TZOFFSETFROM:-0400
TZOFFSETTO:-0500
TZNAME:EST
DTSTART:20171105T060000
END:STANDARD
END:VTIMEZONE
BEGIN:VEVENT
DTSTART;TZID=America/New_York:20170324T193000
DTEND;TZID=America/New_York:20170324T213000
DTSTAMP:20260425T202312
CREATED:20170309T185017Z
LAST-MODIFIED:20170309T185017Z
UID:37447-1490383800-1490391000@theriverboston.com
SUMMARY:Great Waters Music Festival: Tracy Grammer
DESCRIPTION:See Tracy Grammer perform at the Great Waters Music Festival on Friday\, March 24th! \nGrammer has become one of folk music’s most beloved artists. Renowned for her springwater-clear alto\, perfectly intoned violin\, and guitar playing that is by turns percussive and delicate\, Grammer is also a masterful storyteller with an ease and charisma on stage — not to mention a riotous sense of humor. \n 
URL:https://theriverboston.com/events/great-waters-music-festival-tracy-grammer/
LOCATION:Great Waters Music Festival\, 15 Varney Rd\, Wolfeboro\, NH\, 03894\, United States
END:VEVENT
END:VCALENDAR