BEGIN:VCALENDAR
VERSION:2.0
PRODID:-//92.5 the River - ECPv5.16.3.1//NONSGML v1.0//EN
CALSCALE:GREGORIAN
METHOD:PUBLISH
X-WR-CALNAME:92.5 the River
X-ORIGINAL-URL:https://theriverboston.com
X-WR-CALDESC:Events for 92.5 the River
BEGIN:VTIMEZONE
TZID:America/New_York
BEGIN:DAYLIGHT
TZOFFSETFROM:-0500
TZOFFSETTO:-0400
TZNAME:EDT
DTSTART:20170312T070000
END:DAYLIGHT
BEGIN:STANDARD
TZOFFSETFROM:-0400
TZOFFSETTO:-0500
TZNAME:EST
DTSTART:20171105T060000
END:STANDARD
END:VTIMEZONE
BEGIN:VEVENT
DTSTART;TZID=America/New_York:20170811T193000
DTEND;TZID=America/New_York:20170811T213000
DTSTAMP:20260421T071800
CREATED:20170310T163548Z
LAST-MODIFIED:20170310T163548Z
UID:37492-1502479800-1502487000@theriverboston.com
SUMMARY:Great Waters Music Festival: Yellow Brick Road
DESCRIPTION:See Yellow Brick Road\, a tribute performance\, at Great Waters Music Festival on Friday\, August 11th! \nYellow Brick Road\, A Tribute to Elton John\, from Augusta Maine\, is a full concert tribute\, complete with an incredible light show and sound system. \nEvery detail of an actual Elton John concert is presented in such a way that will have Elton John fans screaming for more!
URL:https://theriverboston.com/events/great-waters-music-festival-yellow-brick-road/
LOCATION:Great Waters Music Festival\, 15 Varney Rd\, Wolfeboro\, NH\, 03894\, United States
END:VEVENT
END:VCALENDAR