BEGIN:VCALENDAR
VERSION:2.0
PRODID:-//92.5 the River - ECPv5.16.3.1//NONSGML v1.0//EN
CALSCALE:GREGORIAN
METHOD:PUBLISH
X-WR-CALNAME:92.5 the River
X-ORIGINAL-URL:https://theriverboston.com
X-WR-CALDESC:Events for 92.5 the River
BEGIN:VTIMEZONE
TZID:America/New_York
BEGIN:DAYLIGHT
TZOFFSETFROM:-0500
TZOFFSETTO:-0400
TZNAME:EDT
DTSTART:20180311T070000
END:DAYLIGHT
BEGIN:STANDARD
TZOFFSETFROM:-0400
TZOFFSETTO:-0500
TZNAME:EST
DTSTART:20181104T060000
END:STANDARD
END:VTIMEZONE
BEGIN:VEVENT
DTSTART;VALUE=DATE:20180824
DTEND;VALUE=DATE:20180826
DTSTAMP:20260422T033423
CREATED:20180730T160535Z
LAST-MODIFIED:20180730T160744Z
UID:110289-1535068800-1535241599@theriverboston.com
SUMMARY:Gunstock Mountain Brew and BBQ!
DESCRIPTION:Come to the Gunstock Mountain Brew & BBQ August 24th-25th! \nThe summers winding down and wont last forever! Come enjoy samples of beer from brewers across New England with an onsite barbecue\, food truck vendors\, and music from 92.5 the River! \n\nFriday Taps & Apps from 5-8pm ($35)\nSaturday Brew & BBQ ($35)*: General admission begins at 4 and will run thru 7pm\nSaturday VIP ($50)*: VIPs enter the Brewfest an hour early for a BBQ buffet and private party from 3 until 4!\n\nVisit the Gunstock Website for more information on tickets and pricing! \n 
URL:https://theriverboston.com/events/gunstock-mountain-brew-and-bbq/
LOCATION:Gunstock Mountain\, 719 Cherry Valley Road\, Gilford\, NH\, 03249\, United States
END:VEVENT
END:VCALENDAR