BEGIN:VCALENDAR
VERSION:2.0
PRODID:-//92.5 the River - ECPv5.16.3.1//NONSGML v1.0//EN
CALSCALE:GREGORIAN
METHOD:PUBLISH
X-WR-CALNAME:92.5 the River
X-ORIGINAL-URL:https://theriverboston.com
X-WR-CALDESC:Events for 92.5 the River
BEGIN:VTIMEZONE
TZID:America/New_York
BEGIN:DAYLIGHT
TZOFFSETFROM:-0500
TZOFFSETTO:-0400
TZNAME:EDT
DTSTART:20160313T070000
END:DAYLIGHT
BEGIN:STANDARD
TZOFFSETFROM:-0400
TZOFFSETTO:-0500
TZNAME:EST
DTSTART:20161106T060000
END:STANDARD
END:VTIMEZONE
BEGIN:VEVENT
DTSTART;TZID=America/New_York:20160916T200000
DTEND;TZID=America/New_York:20160916T230000
DTSTAMP:20260421T023811
CREATED:20160831T210032Z
LAST-MODIFIED:20160831T210032Z
UID:19690-1474056000-1474066800@theriverboston.com
SUMMARY:Guster @ The Capitol Center for the Arts!
DESCRIPTION:See Guster LIVE at The Capitol Center for the Arts in Concord NH!
URL:https://theriverboston.com/events/guster-capitol-center-arts/
LOCATION:Capitol Center for the Arts\, 44 South Main Street\, Concord\, NH\, 03301\, United States
END:VEVENT
END:VCALENDAR