BEGIN:VCALENDAR
VERSION:2.0
PRODID:-//92.5 the River - ECPv5.16.3.1//NONSGML v1.0//EN
CALSCALE:GREGORIAN
METHOD:PUBLISH
X-WR-CALNAME:92.5 the River
X-ORIGINAL-URL:https://theriverboston.com
X-WR-CALDESC:Events for 92.5 the River
BEGIN:VTIMEZONE
TZID:America/New_York
BEGIN:DAYLIGHT
TZOFFSETFROM:-0500
TZOFFSETTO:-0400
TZNAME:EDT
DTSTART:20250309T070000
END:DAYLIGHT
BEGIN:STANDARD
TZOFFSETFROM:-0400
TZOFFSETTO:-0500
TZNAME:EST
DTSTART:20251102T060000
END:STANDARD
END:VTIMEZONE
BEGIN:VEVENT
DTSTART;TZID=America/New_York:20250905T190000
DTEND;TZID=America/New_York:20250905T190000
DTSTAMP:20260423T184637
CREATED:20250527T165544Z
LAST-MODIFIED:20250527T165544Z
UID:227475-1757098800-1757098800@theriverboston.com
SUMMARY:Haim @ The Stage at Suffolk Downs
DESCRIPTION:Haim | Friday\, September 5th \nDoors: 5:30 pm | Show: 7 pm \nHaim is bringing their I quit tour to The Stage at Suffolk Downs this September! \nKnown for their exuberant blend of indie rock\, pop\, and R&B\, LA-based sisters Danielle\, Alana\, and Este Haim have been captivating worldwide audiences for over a decade. With heart-pounding instrumentals\, effortless California cool\, and rollicking favorites like “The Steps” and “Relationships\,” Haim concerts are utterly unforgettable! \nDon’t miss your chance to see Haim bring their epic sibling chemistry to Boston! \nGet tickets here!
URL:https://theriverboston.com/events/haim-suffolk/
LOCATION:The Stage at Suffolk Downs\, 25 William F McClellan Hwy\, Boston\, MA\, 02128\, United States
END:VEVENT
END:VCALENDAR