BEGIN:VCALENDAR
VERSION:2.0
PRODID:-//92.5 the River - ECPv5.16.3.1//NONSGML v1.0//EN
CALSCALE:GREGORIAN
METHOD:PUBLISH
X-WR-CALNAME:92.5 the River
X-ORIGINAL-URL:https://theriverboston.com
X-WR-CALDESC:Events for 92.5 the River
BEGIN:VTIMEZONE
TZID:America/New_York
BEGIN:DAYLIGHT
TZOFFSETFROM:-0500
TZOFFSETTO:-0400
TZNAME:EDT
DTSTART:20180311T070000
END:DAYLIGHT
BEGIN:STANDARD
TZOFFSETFROM:-0400
TZOFFSETTO:-0500
TZNAME:EST
DTSTART:20181104T060000
END:STANDARD
END:VTIMEZONE
BEGIN:VEVENT
DTSTART;TZID=America/New_York:20181030T193000
DTEND;TZID=America/New_York:20181030T193000
DTSTAMP:20260420T224501
CREATED:20180516T164519Z
LAST-MODIFIED:20180521T204331Z
UID:85035-1540927800-1540927800@theriverboston.com
SUMMARY:HAIRSPRAY @ Bill Hanney’s North Shore Music Theatre
DESCRIPTION:It’s time to get that hair product out and doll up for a night out\, HAIRSPRAY is coming to Bill Hanney’s North Shore Music Theatre! Set in Baltimore\, 1962\, Tracy Turnblad is a big girl with big hair and an even bigger dream: to dance her way onto TV\, and into the heart of teen idol Link Larkin. Tracy’s audition makes her a local star and soon she is using her new-found fame to fight for integration. But can she win equality – and Link’s heart – without denting her ‘do? READ MORE. \nSing along with Tracy and the rest of the cast in HAIRSPRAY\, coming to Bill Hanney’s North Shore Music Theatre on October 30th through November 11th! View all showtimes and buy tickets. You can also follow the venue on Instagram and Twitter!
URL:https://theriverboston.com/events/hairspray-bill-hanneys-north-shore-music-theatre/
LOCATION:North Shore Music Theatre\, 62 Dunham Road\, Beverly\, MA\, 01915\, United States
END:VEVENT
END:VCALENDAR