BEGIN:VCALENDAR
VERSION:2.0
PRODID:-//92.5 the River - ECPv5.16.3.1//NONSGML v1.0//EN
CALSCALE:GREGORIAN
METHOD:PUBLISH
X-WR-CALNAME:92.5 the River
X-ORIGINAL-URL:https://theriverboston.com
X-WR-CALDESC:Events for 92.5 the River
BEGIN:VTIMEZONE
TZID:America/New_York
BEGIN:DAYLIGHT
TZOFFSETFROM:-0500
TZOFFSETTO:-0400
TZNAME:EDT
DTSTART:20170312T070000
END:DAYLIGHT
BEGIN:STANDARD
TZOFFSETFROM:-0400
TZOFFSETTO:-0500
TZNAME:EST
DTSTART:20171105T060000
END:STANDARD
END:VTIMEZONE
BEGIN:VEVENT
DTSTART;TZID=America/New_York:20170303T193000
DTEND;TZID=America/New_York:20170303T220000
DTSTAMP:20260425T202242
CREATED:20170216T161119Z
LAST-MODIFIED:20170216T161119Z
UID:35820-1488569400-1488578400@theriverboston.com
SUMMARY:Hairspray At The Palace Theatre Opening Night
DESCRIPTION:Welcome To Baltimore Maryland in the decade of the 1960s with quirky plus sized teenager Tracy Turnblad. Her one dream is to dance on the Corny Collins Show and against all odds her dream comes true. Tracy advocates for racial integration on the show and won’t stop until she wins. A Tony Award winner for Best Musical\, “You can’t stop the beat”\, or the enormous amounts of Hairspray!  BIG Musical\, BIG Comedy\, BIG Hair!
URL:https://theriverboston.com/events/hairspray-palace-theatre-opening-night/
LOCATION:The Palace Theatre\, 80 Hanover St\, Manchester\, NH\, 03101\, United States
END:VEVENT
END:VCALENDAR