BEGIN:VCALENDAR
VERSION:2.0
PRODID:-//92.5 the River - ECPv5.16.3.1//NONSGML v1.0//EN
CALSCALE:GREGORIAN
METHOD:PUBLISH
X-WR-CALNAME:92.5 the River
X-ORIGINAL-URL:https://theriverboston.com
X-WR-CALDESC:Events for 92.5 the River
BEGIN:VTIMEZONE
TZID:America/New_York
BEGIN:DAYLIGHT
TZOFFSETFROM:-0500
TZOFFSETTO:-0400
TZNAME:EDT
DTSTART:20160313T070000
END:DAYLIGHT
BEGIN:STANDARD
TZOFFSETFROM:-0400
TZOFFSETTO:-0500
TZNAME:EST
DTSTART:20161106T060000
END:STANDARD
END:VTIMEZONE
BEGIN:VEVENT
DTSTART;TZID=America/New_York:20160918T120000
DTEND;TZID=America/New_York:20160918T190000
DTSTAMP:20260421T083844
CREATED:20160909T174406Z
LAST-MODIFIED:20160909T174406Z
UID:19945-1474200000-1474225200@theriverboston.com
SUMMARY:Harvest Moon Music Festival
DESCRIPTION:Head to Redhook Brewery on Sunday\, September 18th for the Harvest Moon Music Festival!\nTickets are still on sale – buy them here.
URL:https://theriverboston.com/events/harvest-moon-music-festival/
LOCATION:Red Hook Brewery\, 1 Redhook Way \, Portsmouth \, NH\, 03801\, United States
END:VEVENT
END:VCALENDAR